BEGIN:VCALENDAR
VERSION:2.0
PRODID:-//Library Market//iCal Export//EN
BEGIN:VEVENT
SUMMARY:Dubuque County Reads Documentary Film Screening
UID:18649
DTSTAMP:20260419T125900Z
DTSTART:20260312T230000Z
DTEND:20260313T010000Z
LOCATION:Carnegie-Stout Public Library, 360 W 11th St., Dubuque, IA 52001,
  United States
ROOM: Auditorium
DESCRIPTION:In celebration of Dubuque County Reads, Carnegie-Stout Public 
 Library will show the documentary film Women of the White Buffalo on Thurs
 day, March 12, 2026 at 6:00 p.m. in the Aigler Auditorium on the Library&#
 039;s 3rd Floor. Admission is free, but seating is first come, first serve
 d.Directed by Deborah Anderson, Women of the White Buffalo (2022) is a doc
 umentary film featuring first-person interviews with nine Lakota women liv
 ing on South Dakota reservations who are turning to ancestral values and w
 isdom to heal generations of trauma in their communities.This 1 hour 26 mi
 nute film is not rated but is intended for mature audiences. Closed captio
 ning or subtitles will be turned on. Please visit womenofthewhitebuffalo.c
 om for more details about this documentary.To learn more about Dubuque Cou
 nty Reads events and discussions, please visit dbqreads.org or call Carneg
 ie-Stout Public Library at 563-589-4225.
URL:https://carnegiestout.librarycalendar.com/event/movie-night-carnegiest
 out-18649
END:VEVENT
END:VCALENDAR
